Workbook
Name AAA_Unternehmensname_F25: GeheimeTabelle!$B$2
Name AAE_Strasse_D28: GeheimeTabelle!$B$3
Name AAG_Hausnr_F28: GeheimeTabelle!$B$4
Name AAH_PLZ_G28: GeheimeTabelle!$B$5
Name AAI_Ort_H28: GeheimeTabelle!$B$6
Name AAK_AP_Name_E30: GeheimeTabelle!$B$7
Name AAP_Tel_E31: GeheimeTabelle!$B$8
Name AAU_EMail_E32: GeheimeTabelle!$B$9
Name AAZ_Registerger_E34: GeheimeTabelle!$B$10
Name ABE_Registerart_E35: GeheimeTabelle!$B$11
Name ABG_Registernr_G35: GeheimeTabelle!$B$12
Name ABJ_Betriebsnr_I38: GeheimeTabelle!$B$13
Name ABL_MaStrNr_I39: GeheimeTabelle!$B$14
Name ABN_gMSB_H49: GeheimeTabelle!$B$15
Name ABO_wettbMSB_H50: GeheimeTabelle!$B$16
Name ABP_konvMSB_H51: GeheimeTabelle!$B$17
Name ABQ_Messlo_Gesamt_K57: GeheimeTabelle!$B$18
Name ABR_Gesamt_6bis10MWh_H72: GeheimeTabelle!$B$19
Name ABS_MessSys_19_6bis100MWh_I72: GeheimeTabelle!$B$20
Name ABT_mod_6bis10MWh_J72: GeheimeTabelle!$B$21
Name ABU_iMS_6bis10MWh_K72: GeheimeTabelle!$B$22
Name ABV_Gesamt_10bis20MWh_H73: GeheimeTabelle!$B$23
Name ABX_mod_10bis20MWh_J73: GeheimeTabelle!$B$24
Name ABY_iMS_10bis20MWh_K73: GeheimeTabelle!$B$25
Name ABZ_Gesamt_20bis50MWh_H74: GeheimeTabelle!$B$26
Name ACB_mod_20bis50MWh_J74: GeheimeTabelle!$B$27
Name ACC_iMS_20bis50MWh_K74: GeheimeTabelle!$B$28
Name ACD_Gesamt_50bis100MWh_H75: GeheimeTabelle!$B$29
Name ACF_mod_50bis100MWh_J75: GeheimeTabelle!$B$30
Name ACG_iMS_50bis100MWh_K75: GeheimeTabelle!$B$31
Name ACH_Gesamt_ab100MWh_H76: GeheimeTabelle!$B$32
Name ACI_MessSys_19_ab100MWh_I76: GeheimeTabelle!$B$33
Name ACJ_mod_ab100MWh_J76: GeheimeTabelle!$B$34
Name ACK_iMS_ab100MWh_K76: GeheimeTabelle!$B$35
Name ACL_Gesamt_Einr14a_H77: GeheimeTabelle!$B$36
Name ACM_mod_Einr14a_J77: GeheimeTabelle!$B$37
Name ACN_iMS_Einr14a_K77: GeheimeTabelle!$B$38
Name ACO_Gesamt_LP_eAuto_H78: GeheimeTabelle!$B$39
Name ACP_mod_LP_eAuto_J78: GeheimeTabelle!$B$40
Name ACQ_iMS_LP_eAuto_K78: GeheimeTabelle!$B$41
Name ACR_Gesamt_7bis15KW_H81: GeheimeTabelle!$B$42
Name ACS_MessSys_19_7bis15KW_I81: GeheimeTabelle!$B$43
Name ACT_mod_7bis15KW_J81: GeheimeTabelle!$B$44
Name ACU_iMS_7bis15KW_K81: GeheimeTabelle!$B$45
Name ACV_Gesamt_15bis25KW_H82: GeheimeTabelle!$B$46
Name ACX_mod_15bis25KW_J82: GeheimeTabelle!$B$47
Name ACY_iMS_15bis25KW_K82: GeheimeTabelle!$B$48
Name ACZ_Gesamt_25bis100KW_H83: GeheimeTabelle!$B$49
Name ADB_mod_25bis100KW_J83: GeheimeTabelle!$B$50
Name ADC_iMS_25bis100KW_K83: GeheimeTabelle!$B$51
Name ADD_Gesamt_ab100KW_H84: GeheimeTabelle!$B$52
Name ADE_MessSys_19_ab100KW_I84: GeheimeTabelle!$B$53
Name ADF_mod_ab100KW_J84: GeheimeTabelle!$B$54
Name ADG_iMS_ab100KW_K84: GeheimeTabelle!$B$55
Name ADH_Gesamt_bis3MWh_H95: GeheimeTabelle!$B$56
Name ADI_mod_bis3MWh_J95: GeheimeTabelle!$B$57
Name ADJ_iMS_bis3MWh_K95: GeheimeTabelle!$B$58
Name ADK_Gesamt_3bis6MWh_H96: GeheimeTabelle!$B$59
Name ADL_mod_3bis6MWh_J96: GeheimeTabelle!$B$60
Name ADM_iMS_3bis6MWh_K96: GeheimeTabelle!$B$61

Sheet Fragebogen
A1: 10 | B1: Fragebogen Elektrizität Messstellenbetrieb 3. Quartal 2024
B3: Die im Rahmen des Monitoring der Bundesnetzagentur und des Bundeskartellamtes erhobenen Daten beziehen sich jeweils auf die letzt abgelaufenen Quartale. Der gültige Stichtag für diese Datenerhebung ist der 30.09.2024. Eine zusammenfassende Beantwortung durch Obergesellschaften bei Konzernen ist nicht vorgesehen. Die in den Fragebögen vorzunehmenden Angaben beziehen sich nur direkt auf das jeweilige Unternehmen und nicht auf Unternehmen, an denen das antwortende Unternehmen beteiligt ist. Ausfüllhinweise: Nehmen Sie keine Modifikationen an dem Fragebogen vor und tragen Sie Ihre Antworten nur in die vorgesehenen Felder unter Beachtung der vorgegebenen Feldformate ein. Geben Sie dabei stets Zahlenwerte als Ziffer ohne Einheit ein. Die mit einem Stern (*) gekennzeichneten Begriffe sind in der Definitionsliste aufgeführt. Der Fragebogen ist auszufüllen von: → Betreibern von Energieversorgungsnetzen, soweit sie Funktionen eines grundzuständigen Messstellenbetreibers wahrnehmen (gemäß § 3 Abs. 1 und § 2 Nr. 4 MsbG) → Messstellenbetreibern, die nicht Betreiber eines Energieversorgungsnetzes sind (gemäß § 5 Abs. 1 MsbG)
B19: Bitte übersenden Sie den ausgefüllten und verschlüsselten Fragebogen ausschließlich über die neue Datenübermittlungsplattform MonEDa - https://monitoring.bundesnetzagentur.de/moneda. Zur Verschlüsselung nutzen Sie bitte zwingend den zu dieser Marktrolle und Betriebsnummer gehörenden Schlüssel. Dieser wurde Ihnen zusammen mit der Betriebsnummer und der Kontrollnummer mitgeteilt. Weitere Informationen zu MonEDa finden Sie unter www.bnetza.de/moneda
A23: 1. | B23: Allgemeines
A25: 1.1 | B25: Name des antwortenden Unternehmens laut Register (Handelsregister, Genossenschaftsregister etc.)
B27: Adresse des Unternehmens | D27: Straße | F27: Hausnummer | G27: Postleitzahl | H27: Ort
B30: Ansprechpartner für evtl. Rückfragen | D30: Name
D31: Telefon
D32: E-Mail
D34: Registergericht
C35: Registerart1) und -nummer
C36: 1)Auswahlfeld: HR A, HR B, GnR, PR, VR
B38: Betriebsnummer* des antwortenden Unternehmens (Format 50xxxxxx)
B39: MaStR-Nummer des antwortenden Unternehmens (Format SEMxxxxxxxxxxx)
B41: Die achtstellige Betriebsnummer beginnend mit den Ziffern 50 wurde Ihnen von der Bundesnetzagentur zusammen mit den Zugangsdaten für MonEDa schriftlich mitgeteilt. Zur Übermittlung dieses Fragebogens loggen Sie sich zwingend mit der zu dieser Marktrolle passenden Betriebsnummer und Kontrollnummer ein.
A48: 1.2 | B48: Welche Rolle(n) übt ihr Unternehmen aus? | H48: Ja/Nein
B49: grundzuständiger Messstellenbetreiber
B50: wettbewerblicher Messstellenbetreiber
B51: konventioneller Messstellenbetreiber
A54: 2. | B54: Umfang Messstellenbetrieb
A56: 2.1 | K56: Anzahl Messlokationen
B57: Bitte geben Sie die Gesamtanzahl an Messlokationen an, für die Sie den Messstellenbetrieb durchführen.
A60: 3. | B60: Ausstattung von Messstellen
A62: 3.1 | B62: Verpflichtender Einbau i.S.d. § 29 i.V.m. § 30 MsbG
B64: Bitte geben Sie die jeweilige Anzahl der von Ihnen betriebenen Messlokationen (Elektrizität) differenziert nach den untenstehenden Kategorien an.
H65: Anzahl der Messlokationen
H66: Gesamt | I66: davon mit Mess-systemen gem. § 19 Abs. 5 MsbG ausgestattet | J66: davon mit modernen Mess-einrichtungen i.S.d. MsbG ausgestattet | K66: davon mit intelligenten Messsystemen i.S.d. MsbG ausgestattet
B71: Letztverbraucher (gestaffelt nach Jahresstromverbrauch)
B72: a) | C72: > 6.000 kWh & ≤ 10.000 kWh
B73: b) | C73: > 10.000 kWh & ≤ 20.000 kWh
B74: c) | C74: > 20.000 kWh & ≤ 50.000 kWh
B75: d) | C75: > 50.000 kWh & ≤ 100.000 kWh
B76: e) | C76: > 100.000 kWh
B77: f) | C77: Verbrauchseinrichtungen nach § 14a EnWG
B78: fa) | C78: davon | D78: Messlokationen an Ladepunkten für Elektromobile
B80: Anlagenbetreiber nach § 2 S. 1 Nr. 1 MsbG (gestaffelt nach installierter Leistung der Anlage)
B81: g) | C81: > 7 kW & ≤ 15 kW
B82: h) | C82: > 15 kW & ≤ 25 kW
B83: i) | C83: > 25 kW & ≤ 100 kW
B84: j) | C84: > 100 kW
...

Sheet Hinweise & Erläuterungen
B2: Hinweise zur Bestimmung der vorliegenden Einbaufallgruppen:
B4: 1. Eine Messstelle darf nur einer Einbaufallgruppe zugeordnet werden. Eine Mehrfachnennung ist nicht zulässig.
B5: 2. Ist ein iMSys ein Pflichteinbau wird es nur dieser Einbaufallgruppe zugeordnet. Eine gleichzeitige Zuordnung von Pflichteinbau (Verbrauchsmenge/Anlagengröße) und als optinaler Einbau der korrespondierenden Gruppe (Anlagengröße/Verbrauchsmenge) ist nicht zulässig.
B6: 2.1 Zuordnung Prosumer mit mehreren Pflichteinbaufällen | C6: Bei einem Pflichteinbaufall sowohl durch Verbrauchsmenge als auch Anlagenleistung ist zur Zuordnung als hilfsweises Kriterium ein Vergleich der erfassten Bezug- und Einspeisemenge heranzuziehen. Bei Bezugmenge > Einspeisemenge ist die Messtelle der Einbaufallgruppe des Verbrauchs zuzuordnen; bei Bezugsmenge < Einspeisemenge ist die Messtselle der Einbaufallgruppe nach Anlagengröße zuzuordnen.
B7: 2.2 Zuordnung Verbraucher mit mehreren Pflichteinbaufällen | C7: Bei einem Pflichteinbau eines iMSys wegen §14a EnWG und Verbrauch >6.000 kWh/a ist die Messstelle nur der Kategorie §14a EnWG zuzuordnen.
B8: 3. Die Zuordnung der Einbaufallgruppe ist für jede Messstelle bei jeder Datenerhebung neu zu ermitteln. Ändern sich die Anschlussbedingungen (Veränderung Verbrauchsmenge, Neuinstallation von Erzeugungsanlagen oder steuerbare Verbrauchseinrichtungen nach §14a EnWG an bestehenden Anschlüssen) unterliegen die Zuordnungen im zeiltlichen Verlauf einer Dynamik. Der Staus zum Stichtag der Datenerhebung ist ausschlaggebend.
B11: Maßstab für die Verbrauchswerte:
B13: Grundsätzlich ist nach § 30 Abs. 4 MsbG für die Bemessung des Jahresstromverbrauchs der Durchschnittswert der jeweils letzten drei erfassten Jahresverbrauchswerte maßgeblich. Da das Jahr 2024 noch nicht beendet ist, ist der für das vorangegangene Kalenderjahr ermittelte Durchschnittswert der letzten drei Jahre zu verwenden.
B16: Hinweis zum Interpretation der Angaben „Gesamt“ in Frage 3.1 und 3.2:
B18: Im Rahmen der Quartalserhebung ist in der Spalte „Gesamt“ die Anzahl der, von Ihrem Unternehmen betriebenen Messlokationen der jeweiligen Verbrauchsmengen bzw. Leistungsklassen der Erzeugungsanlagen anzugeben, für die eine Ausstattungsverpflichtung nach dem Messstellenbetriebsgesetz besteht. Diese Anzahl umfasst demnach alle Messlokationen ungeachtet dessen, ob bereits eine mME bzw. ein iMSys verbaut ist. In die nachfolgenden Spalten ist dann aufzuschlüsseln, mit welcher Messtechnik diese Messstellen dieser Leistungs-/Anlagenkategorie derzeit ausgestattet sind. Bei der Spalte „Gesamt“ handelt es sich demnach nicht um die jeweilige Zeilensumme der angegeben Messtechnik je Verbrauchs-/Anlagenkategorie.
B21: Hinweise zur Erfassung von Messsystemen nach § 19 Abs. 5 MsbG
B23: Zu Gunsten einer einfacheren Erhebung ist eine Differenzierung der Messsysteme i.S. des § 19 Abs. 5MsbG nur in Einbaufälle bis 100.000 kWh und >100.000 kWh notwendig. Alle Einbaufälle bis 100.000 kWh können summiert angegeben werden. | C23: Messsysteme nach §19 Abs. 5 MsbG für Letztverbraucher bis 100.000 kWh/a: Die Zellen I 72 bis I 75 werden nun nur noch gebündelt erfasst
C24: Pflichteinbaufälle von iMSys für Letztverbraucher über 100.000 kWh/a, welche mit einem Messsystem nach § 19 Abs. 5 MsbG augestattet sind, werden in Zelle I 76 erfasst.
B25: Zu Gunsten einer einfacheren Erhebung ist eine Differenzierung der Messsysteme i.S. des §19 Abs. 5 MsbG nur in Einbaufälle bis 100 kW und >100 kW notwendig. Alle Einbaufälle bis 100 kW können summiert angegeben werden. | C25: Messsysteme nach §19 Abs. 5 MsbG für Anlagen mit einer Anlagenleistung von 7 kW bis 100 kW: Die Zellen I 81 bis I 83 werden nun nur noch gebündelt erfasst
C26: Pflichteinbaufälle von iMSys für Anlagen mit einer Erzeugungsleistung über 100 kW, welche mit einem Messsystem nach § 19 Abs. 5 MsbG augestattet sind, werden in Zelle I 84 erfasst.

Sheet GeheimeTabelle
A1: Zelle_1 | B1: Zelle_2 | C1: Zelle_3
A2: AAA_Unternehmensname_F25 | B2: =IF(INDIRECT("Fragebogen!$F$25")="","",INDIRECT("Fragebogen!$F$25")) | C2: =Fragebogen!$F$25 -> 0
A3: AAE_Strasse_D28 | B3: =IF(INDIRECT("Fragebogen!$D$28")="","",INDIRECT("Fragebogen!$D$28")) | C3: =Fragebogen!$D$28 -> 0
A4: AAG_Hausnr_F28 | B4: =IF(INDIRECT("Fragebogen!$F$28")="","",INDIRECT("Fragebogen!$F$28")) | C4: =Fragebogen!$F$28 -> 0
A5: AAH_PLZ_G28 | B5: =IF(INDIRECT("Fragebogen!$G$28")="","",INDIRECT("Fragebogen!$G$28")) | C5: =Fragebogen!$G$28 -> 0
A6: AAI_Ort_H28 | B6: =IF(INDIRECT("Fragebogen!$H$28")="","",INDIRECT("Fragebogen!$H$28")) | C6: =Fragebogen!$H$28 -> 0
A7: AAK_AP_Name_E30 | B7: =IF(INDIRECT("Fragebogen!$E$30")="","",INDIRECT("Fragebogen!$E$30")) | C7: =Fragebogen!$E$30 -> 0
A8: AAP_Tel_E31 | B8: =IF(INDIRECT("Fragebogen!$E$31")="","",INDIRECT("Fragebogen!$E$31")) | C8: =Fragebogen!$E$31 -> 0
A9: AAU_EMail_E32 | B9: =IF(INDIRECT("Fragebogen!$E$32")="","",INDIRECT("Fragebogen!$E$32")) | C9: =Fragebogen!$E$32 -> 0
A10: AAZ_Registerger_E34 | B10: =IF(INDIRECT("Fragebogen!$E$34")="","",INDIRECT("Fragebogen!$E$34")) | C10: =Fragebogen!$E$34 -> 0
A11: ABE_Registerart_E35 | B11: =IF(INDIRECT("Fragebogen!$E$35")="","",INDIRECT("Fragebogen!$E$35")) | C11: =Fragebogen!$E$35 -> 0
A12: ABG_Registernr_G35 | B12: =IF(INDIRECT("Fragebogen!$G$35")="","",INDIRECT("Fragebogen!$G$35")) | C12: =Fragebogen!$G$35 -> 0
A13: ABJ_Betriebsnr_I38 | B13: =IF(INDIRECT("Fragebogen!$I$38")="","",INDIRECT("Fragebogen!$I$38")) | C13: =Fragebogen!$I$38 -> 0
A14: ABL_MaStrNr_I39 | B14: =IF(INDIRECT("Fragebogen!$I$39")="","",INDIRECT("Fragebogen!$I$39")) | C14: =Fragebogen!$I$39 -> 0
A15: ABN_gMSB_H49 | B15: =IF(INDIRECT("Fragebogen!$H$49")="","",INDIRECT("Fragebogen!$H$49")) | C15: =Fragebogen!$H$49 -> 0
A16: ABO_wettbMSB_H50 | B16: =IF(INDIRECT("Fragebogen!$H$50")="","",INDIRECT("Fragebogen!$H$50")) | C16: =Fragebogen!$H$50 -> 0
A17: ABP_konvMSB_H51 | B17: =IF(INDIRECT("Fragebogen!$H$51")="","",INDIRECT("Fragebogen!$H$51")) | C17: =Fragebogen!$H$51 -> 0
A18: ABQ_Messlo_Gesamt_K57 | B18: =IF(INDIRECT("Fragebogen!$K$57")="","",INDIRECT("Fragebogen!$K$57")) | C18: =Fragebogen!$K$57 -> 0
A19: ABR_Gesamt_6bis10MWh_H72 | B19: =IF(INDIRECT("Fragebogen!$H$72")="","",INDIRECT("Fragebogen!$H$72")) | C19: =Fragebogen!$H$72 -> 0
A20: ABS_MessSys_19_6bis100MWh_I72 | B20: =IF(INDIRECT("Fragebogen!$I$72")="","",INDIRECT("Fragebogen!$I$72")) | C20: =Fragebogen!$I$72 -> 0
A21: ABT_mod_6bis10MWh_J72 | B21: =IF(INDIRECT("Fragebogen!$J$72")="","",INDIRECT("Fragebogen!$J$72")) | C21: =Fragebogen!$J$72 -> 0
A22: ABU_iMS_6bis10MWh_K72 | B22: =IF(INDIRECT("Fragebogen!$K$72")="","",INDIRECT("Fragebogen!$K$72")) | C22: =Fragebogen!$K$72 -> 0
A23: ABV_Gesamt_10bis20MWh_H73 | B23: =IF(INDIRECT("Fragebogen!$H$73")="","",INDIRECT("Fragebogen!$H$73")) | C23: =Fragebogen!$H$73 -> 0
A24: ABX_mod_10bis20MWh_J73 | B24: =IF(INDIRECT("Fragebogen!$J$73")="","",INDIRECT("Fragebogen!$J$73")) | C24: =Fragebogen!$J$73 -> 0
A25: ABY_iMS_10bis20MWh_K73 | B25: =IF(INDIRECT("Fragebogen!$K$73")="","",INDIRECT("Fragebogen!$K$73")) | C25: =Fragebogen!$K$73 -> 0
A26: ABZ_Gesamt_20bis50MWh_H74 | B26: =IF(INDIRECT("Fragebogen!$H$74")="","",INDIRECT("Fragebogen!$H$74")) | C26: =Fragebogen!$H$74 -> 0
A27: ACB_mod_20bis50MWh_J74 | B27: =IF(INDIRECT("Fragebogen!$J$74")="","",INDIRECT("Fragebogen!$J$74")) | C27: =Fragebogen!$J$74 -> 0
A28: ACC_iMS_20bis50MWh_K74 | B28: =IF(INDIRECT("Fragebogen!$K$74")="","",INDIRECT("Fragebogen!$K$74")) | C28: =Fragebogen!$K$74 -> 0
A29: ACD_Gesamt_50bis100MWh_H75 | B29: =IF(INDIRECT("Fragebogen!$H$75")="","",INDIRECT("Fragebogen!$H$75")) | C29: =Fragebogen!$H$75 -> 0
A30: ACF_mod_50bis100MWh_J75 | B30: =IF(INDIRECT("Fragebogen!$J$75")="","",INDIRECT("Fragebogen!$J$75")) | C30: =Fragebogen!$J$75 -> 0
A31: ACG_iMS_50bis100MWh_K75 | B31: =IF(INDIRECT("Fragebogen!$K$75")="","",INDIRECT("Fragebogen!$K$75")) | C31: =Fragebogen!$K$75 -> 0
A32: ACH_Gesamt_ab100MWh_H76 | B32: =IF(INDIRECT("Fragebogen!$H$76")="","",INDIRECT("Fragebogen!$H$76")) | C32: =Fragebogen!$H$76 -> 0
A33: ACI_MessSys_19_ab100MWh_I76 | B33: =IF(INDIRECT("Fragebogen!$I$76")="","",INDIRECT("Fragebogen!$I$76")) | C33: =Fragebogen!$I$76 -> 0
A34: ACJ_mod_ab100MWh_J76 | B34: =IF(INDIRECT("Fragebogen!$J$76")="","",INDIRECT("Fragebogen!$J$76")) | C34: =Fragebogen!$J$76 -> 0
A35: ACK_iMS_ab100MWh_K76 | B35: =IF(INDIRECT("Fragebogen!$K$76")="","",INDIRECT("Fragebogen!$K$76")) | C35: =Fragebogen!$K$76 -> 0
A36: ACL_Gesamt_Einr14a_H77 | B36: =IF(INDIRECT("Fragebogen!$H$77")="","",INDIRECT("Fragebogen!$H$77")) | C36: =Fragebogen!$H$77 -> 0
A37: ACM_mod_Einr14a_J77 | B37: =IF(INDIRECT("Fragebogen!$J$77")="","",INDIRECT("Fragebogen!$J$77")) | C37: =Fragebogen!$J$77 -> 0
A38: ACN_iMS_Einr14a_K77 | B38: =IF(INDIRECT("Fragebogen!$K$77")="","",INDIRECT("Fragebogen!$K$77")) | C38: =Fragebogen!$K$77 -> 0
A39: ACO_Gesamt_LP_eAuto_H78 | B39: =IF(INDIRECT("Fragebogen!$H$78")="","",INDIRECT("Fragebogen!$H$78")) | C39: =Fragebogen!$H$78 -> 0
A40: ACP_mod_LP_eAuto_J78 | B40: =IF(INDIRECT("Fragebogen!$J$78")="","",INDIRECT("Fragebogen!$J$78")) | C40: =Fragebogen!$J$78 -> 0
...
